BEGIN:VCALENDAR
VERSION:2.0
PRODID:icalendar-ruby
CALSCALE:GREGORIAN
BEGIN:VEVENT
DTSTAMP:20260423T085203Z
UID:02ca97b6-228b-47b5-9d3d-dab168b96afe
DTSTART;VALUE=DATE:20201125
DESCRIPTION:Property ID# 493538\, Time: 2:00PM
SUMMARY:Auction for 
END:VEVENT
END:VCALENDAR
